BEGIN:VCALENDAR
VERSION:2.0
PRODID:-//wp-events-plugin.com//7.2.3.1//EN
TZID:America/New_York
X-WR-TIMEZONE:America/New_York
BEGIN:VEVENT
UID:42@njappa.org
DTSTART;TZID=America/New_York:20260618T080000
DTEND;TZID=America/New_York:20260618T130000
DTSTAMP:20260331T105027Z
URL:https://www.njappa.org/events/njappa-spring-general-membership-meeting
 -and-board-elections-2026/
SUMMARY:NJAPPA Spring General Membership Meeting and Board Elections 2026
DESCRIPTION:[fusion_builder_container hundred_percent="no" hundred_percent_
 height="no" hundred_percent_height_scroll="no" hundred_percent_height_cent
 er_content="yes" equal_height_columns="no" menu_anchor="" hide_on_mobile="
 small-visibility\,medium-visibility\,large-visibility" class="" id="" back
 ground_color="" background_image="" background_position="center center" ba
 ckground_repeat="no-repeat" fade="no" background_parallax="none" enable_mo
 bile="no" parallax_speed="0.3" video_mp4="" video_webm="" video_ogv="" vid
 eo_url="" video_aspect_ratio="16:9" video_loop="yes" video_mute="yes" vide
 o_preview_image="" border_size="" border_color="" border_style="solid" mar
 gin_top="" margin_bottom="" padding_top="" padding_right="" padding_bottom
 ="" padding_left=""][fusion_builder_row][fusion_builder_column type="1_1" 
 layout="1_1" spacing="" center_content="no" link="" target="_self" min_hei
 ght="" hide_on_mobile="small-visibility\,medium-visibility\,large-visibili
 ty" class="" id="" background_color="" background_image="" background_posi
 tion="left top" background_repeat="no-repeat" hover_type="none" border_siz
 e="0" border_color="" border_style="solid" border_position="all" padding_t
 op="" padding_right="" padding_bottom="" padding_left="" dimension_margin=
 "" animation_type="" animation_direction="left" animation_speed="0.3" anim
 ation_offset="" last="no"][fusion_text columns="" column_min_width="" colu
 mn_spacing="" rule_style="default" rule_size="" rule_color="" class="" id=
 ""]\n\n\n\n\n&#x1f4c5\; SAVE THE DATE\nNJAPPA Spring General Membership Me
 eting\nand Board Elections\n\nHosted by NJIT\nCentral King Building – Ag
 ile Strategy Lab\nJune 18\, 2026\n8:00 AM – 1:00 PM\n\nMORE INFORMATION 
 WILL FOLLOW IN THE COMING WEEKS!\n\nWe look forward to continuing the conv
 ersation and building on the momentum from the Spring Conference.\n\n\n\nT
 HANKS!\n[/fusion_text][/fusion_builder_column][/fusion_builder_row][/fusio
 n_builder_container]
END:VEVENT
BEGIN:VTIMEZONE
TZID:America/New_York
X-LIC-LOCATION:America/New_York
BEGIN:DAYLIGHT
DTSTART:20260308T030000
TZOFFSETFROM:-0500
TZOFFSETTO:-0400
TZNAME:EDT
END:DAYLIGHT
END:VTIMEZONE
END:VCALENDAR